BEGIN:VCALENDAR
VERSION:2.0
PRODID:icalendar-ruby
CALSCALE:GREGORIAN
METHOD:PUBLISH
BEGIN:VEVENT
DTSTAMP:20260423T065715Z
UID:18-364312@standrewsfayetteville.org
DTSTART:20261011T140000Z
DTEND:20261011T150000Z
CLASS:PUBLIC
CREATED:20260422T230956
DESCRIPTION:Worship Service
LAST-MODIFIED:20260422T230956
LOCATION:Sanctuary
SUMMARY:Worship Service
URL;VALUE=URI:https://www.standrewsfayetteville.org/events/worship-service-
 -18/2026-10-11
END:VEVENT
END:VCALENDAR
