BEGIN:VCALENDAR
VERSION:2.0
PRODID:icalendar-ruby
CALSCALE:GREGORIAN
METHOD:PUBLISH
BEGIN:VEVENT
DTSTAMP:20260423T052909Z
UID:18-364311@standrewsfayetteville.org
DTSTART:20261004T140000Z
DTEND:20261004T150000Z
CLASS:PUBLIC
CREATED:20260422T230956
DESCRIPTION:Worship Service
LAST-MODIFIED:20260422T230956
LOCATION:Sanctuary
SUMMARY:Worship Service
URL;VALUE=URI:https://www.standrewsfayetteville.org/events/worship-service-
 -18/2026-10-04
END:VEVENT
END:VCALENDAR
