BEGIN:VCALENDAR
VERSION:2.0
PRODID:icalendar-ruby
CALSCALE:GREGORIAN
METHOD:PUBLISH
BEGIN:VEVENT
DTSTAMP:20260423T020915Z
UID:18-364113@standrewsfayetteville.org
DTSTART:20260920T140000Z
DTEND:20260920T150000Z
CLASS:PUBLIC
CREATED:20260422T201535
DESCRIPTION:Worship Service
LAST-MODIFIED:20260422T201535
LOCATION:Sanctuary
SUMMARY:Worship Service
URL;VALUE=URI:https://www.standrewsfayetteville.org/events/worship-service-
 -18/2026-09-20
END:VEVENT
END:VCALENDAR
