BEGIN:VCALENDAR
VERSION:2.0
PRODID:icalendar-ruby
CALSCALE:GREGORIAN
METHOD:PUBLISH
BEGIN:VEVENT
DTSTAMP:20260423T003222Z
UID:18-364112@standrewsfayetteville.org
DTSTART:20260913T140000Z
DTEND:20260913T150000Z
CLASS:PUBLIC
CREATED:20260422T201535
DESCRIPTION:Worship Service
LAST-MODIFIED:20260422T201535
LOCATION:Sanctuary
SUMMARY:Worship Service
URL;VALUE=URI:https://www.standrewsfayetteville.org/events/worship-service-
 -18/2026-09-13
END:VEVENT
END:VCALENDAR
