BEGIN:VCALENDAR
VERSION:2.0
PRODID:icalendar-ruby
CALSCALE:GREGORIAN
METHOD:PUBLISH
BEGIN:VEVENT
DTSTAMP:20260419T132547Z
UID:123-332830@standrewsfayetteville.org
DTSTART:20260524T140000Z
DTEND:20260524T150000Z
CLASS:PUBLIC
CREATED:20260326T120207
DESCRIPTION:
LAST-MODIFIED:20260326T120207
LOCATION:
SUMMARY:Pentecost Sunday
URL;VALUE=URI:https://www.standrewsfayetteville.org/events/pentecost-sunday
 /2026-05-24
ATTACH;FILENAME=Penecost-Blurb-2026.jpg;FMTTYPE=image/jpeg:https://dq5pwpg1
 q8ru0.cloudfront.net/2026/03/26/15/41/15/183509d8-dd78-49dd-961c-e3f05c554
 94c/Penecost-Blurb-2026.jpg
END:VEVENT
END:VCALENDAR
