BEGIN:VCALENDAR
VERSION:2.0
PRODID:icalendar-ruby
CALSCALE:GREGORIAN
METHOD:PUBLISH
BEGIN:VEVENT
DTSTAMP:20260421T005134Z
UID:27-361738@standrewsfayetteville.org
DTSTART:20260922T133000Z
DTEND:20260922T143000Z
CLASS:PUBLIC
CREATED:20260420T184045
DESCRIPTION:
LAST-MODIFIED:20260420T184045
LOCATION:Room 106
SUMMARY:Pathfinders Women's Circle
URL;VALUE=URI:https://www.standrewsfayetteville.org/events/pathfinders-wome
 ns-circle/2026-09-22
ATTACH;FILENAME=Pathfinders-Blurb-April-2026.jpg;FMTTYPE=image/jpeg:https:/
 /dq5pwpg1q8ru0.cloudfront.net/2026/04/20/11/43/58/c6bb6185-ce15-4584-bcf8-
 9916a72828d2/Pathfinders-Blurb-April-2026.jpg
END:VEVENT
END:VCALENDAR
