BEGIN:VCALENDAR
VERSION:2.0
PRODID:icalendar-ruby
CALSCALE:GREGORIAN
METHOD:PUBLISH
BEGIN:VEVENT
DTSTAMP:20260421T011212Z
UID:36-361793@standrewsfayetteville.org
DTSTART;VALUE=DATE:20261002
DTEND;VALUE=DATE:20261002
CLASS:PUBLIC
CREATED:20260420T184045
DESCRIPTION:
LAST-MODIFIED:20260420T184045
LOCATION:
SUMMARY:Pastor Mamie's Day Off
URL;VALUE=URI:https://www.standrewsfayetteville.org/events/pastor-mamies-da
 y-off/2026-10-02
ATTACH;FILENAME=shutterstock_206980255.jpg;FMTTYPE=image/jpeg:https://dq5pw
 pg1q8ru0.cloudfront.net/2025/09/03/13/28/19/c3a159ff-18aa-4dbc-ac3a-9384a2
 3be811/shutterstock_206980255.jpg
END:VEVENT
END:VCALENDAR
