BEGIN:VCALENDAR
VERSION:2.0
PRODID:icalendar-ruby
CALSCALE:GREGORIAN
METHOD:PUBLISH
BEGIN:VEVENT
DTSTAMP:20260422T192231Z
UID:137-363462@standrewsfayetteville.org
DTSTART:20260422T220000Z
DTEND:20260422T223000Z
CLASS:PUBLIC
CREATED:20260422T103114
DESCRIPTION:
LAST-MODIFIED:20260422T103114
LOCATION:
SUMMARY:No Wed Prayer & Communion
URL;VALUE=URI:https://www.standrewsfayetteville.org/events/no-wed-prayer-co
 mmunion--137/2026-04-22
ATTACH;FILENAME=Wed-Communion-CXL-Dates.jpg;FMTTYPE=image/jpeg:https://dq5p
 wpg1q8ru0.cloudfront.net/2026/04/22/14/31/14/4eb2f6e4-4bb7-4cae-b894-3c4bc
 7ca4b35/Wed-Communion-CXL-Dates.jpg
END:VEVENT
END:VCALENDAR
