BEGIN:VCALENDAR
VERSION:2.0
PRODID:icalendar-ruby
CALSCALE:GREGORIAN
METHOD:PUBLISH
BEGIN:VEVENT
DTSTAMP:20260419T131428Z
UID:124-332829@standrewsfayetteville.org
DTSTART:20260510T140000Z
DTEND:20260510T150000Z
CLASS:PUBLIC
CREATED:20260326T120147
DESCRIPTION:
LAST-MODIFIED:20260326T120147
LOCATION:
SUMMARY:Mother's Day/Mothering Sunday
URL;VALUE=URI:https://www.standrewsfayetteville.org/events/mothers-day-moth
 ering-sunday/2026-05-10
ATTACH;FILENAME=Mothers-Day-SAUMC.jpg;FMTTYPE=image/jpeg:https://dq5pwpg1q8
 ru0.cloudfront.net/2026/03/26/15/45/39/849a5a87-2186-47bd-8640-1d533c8c114
 d/Mothers-Day-SAUMC.jpg
END:VEVENT
END:VCALENDAR
