BEGIN:VCALENDAR
VERSION:2.0
PRODID:icalendar-ruby
CALSCALE:GREGORIAN
METHOD:PUBLISH
BEGIN:VEVENT
DTSTAMP:20260419T134559Z
UID:120-339879@standrewsfayetteville.org
DTSTART:20260516T130000Z
DTEND:20260516T160000Z
CLASS:PUBLIC
CREATED:20260401T171322
DESCRIPTION:
LAST-MODIFIED:20260401T171322
LOCATION:Gym/Family Life Center
SUMMARY:Free Yard Sale
URL;VALUE=URI:https://www.standrewsfayetteville.org/events/free-yard-sale/2
 026-05-16
ATTACH;FILENAME=Free-Yard-Sale-Blurb-for-Public.jpg;FMTTYPE=image/jpeg:http
 s://dq5pwpg1q8ru0.cloudfront.net/2026/04/01/21/13/21/b8f0c0f3-03a8-4299-8c
 64-321abf27f05c/Free-Yard-Sale-Blurb-for-Public.jpg
END:VEVENT
END:VCALENDAR
