BEGIN:VCALENDAR
VERSION:2.0
PRODID:icalendar-ruby
CALSCALE:GREGORIAN
METHOD:PUBLISH
BEGIN:VEVENT
DTSTAMP:20260419T173722Z
UID:109-332856@standrewsfayetteville.org
DTSTART:20260610T224500Z
DTEND:20260610T233000Z
CLASS:PUBLIC
CREATED:20260326T131946
DESCRIPTION:
LAST-MODIFIED:20260326T131946
LOCATION:sanctuary
SUMMARY:Choir Practice
URL;VALUE=URI:https://www.standrewsfayetteville.org/events/choir-practice/2
 026-06-10
END:VEVENT
END:VCALENDAR
