BEGIN:VCALENDAR
VERSION:2.0
PRODID:icalendar-ruby
CALSCALE:GREGORIAN
METHOD:PUBLISH
BEGIN:VEVENT
DTSTAMP:20260419T125840Z
UID:134-340866@standrewsfayetteville.org
DTSTART:20260517T140000Z
DTEND:20260517T150000Z
CLASS:PUBLIC
CREATED:20260402T144219
DESCRIPTION:
LAST-MODIFIED:20260402T144219
LOCATION:
SUMMARY:Book Drive for Warrenwood Elementary
URL;VALUE=URI:https://www.standrewsfayetteville.org/events/book-drive-for-w
 arrenwood-elementary/2026-05-17
ATTACH;FILENAME=Book-Drive-2026.jpg;FMTTYPE=image/jpeg:https://dq5pwpg1q8ru
 0.cloudfront.net/2026/04/02/18/42/19/594b1aa2-21fa-4d2f-83da-daae2d78bd36/
 Book-Drive-2026.jpg
END:VEVENT
END:VCALENDAR
