BEGIN:VCALENDAR
VERSION:2.0
PRODID:icalendar-ruby
CALSCALE:GREGORIAN
METHOD:PUBLISH
BEGIN:VEVENT
DTSTAMP:20260419T131428Z
UID:121-320216@standrewsfayetteville.org
DTSTART;VALUE=DATE:20260617
DTEND;VALUE=DATE:20260620
CLASS:PUBLIC
CREATED:20260314T164609
DESCRIPTION:
LAST-MODIFIED:20260314T164609
LOCATION:Greenville NC Convention Center
SUMMARY:Annual Conference
URL;VALUE=URI:https://www.standrewsfayetteville.org/events/annual-conferenc
 e--121/2026-06-17
ATTACH;FILENAME=Annual-Conference-Blurb-2026.jpg;FMTTYPE=image/jpeg:https:/
 /dq5pwpg1q8ru0.cloudfront.net/2026/03/14/20/45/27/a2f0eabd-c909-4951-abbc-
 d6e24ec290b2/Annual-Conference-Blurb-2026.jpg
END:VEVENT
END:VCALENDAR
