BEGIN:VCALENDAR
VERSION:2.0
PRODID:icalendar-ruby
CALSCALE:GREGORIAN
METHOD:PUBLISH
BEGIN:VEVENT
DTSTAMP:20260419T134019Z
UID:122-332828@standrewsfayetteville.org
DTSTART:20260531T140000Z
DTEND:20260531T150000Z
CLASS:PUBLIC
CREATED:20260326T120106
DESCRIPTION:
LAST-MODIFIED:20260326T120106
LOCATION:
SUMMARY:5th Sunday Song & Witness Service
URL;VALUE=URI:https://www.standrewsfayetteville.org/events/5th-sunday-song-
 witness-service--122/2026-05-31
ATTACH;FILENAME=5th-Sunday-Song-0-Witness-Service-Blurb.jpg;FMTTYPE=image/j
 peg:https://dq5pwpg1q8ru0.cloudfront.net/2026/03/26/15/34/30/ae12b955-d787
 -4ec7-912f-1318aa946126/5th-Sunday-Song-0-Witness-Service-Blurb.jpg
END:VEVENT
END:VCALENDAR
